BEGIN:VCALENDAR
VERSION:2.0
PRODID:-//ChamberMaster//Event Calendar 2.0//EN
METHOD:PUBLISH
X-PUBLISHED-TTL:P3D
REFRESH-INTERVAL:P3D
CALSCALE:GREGORIAN
BEGIN:VEVENT
DTSTART:20260302T223000Z
DTEND:20260303T033000Z
X-MICROSOFT-CDO-ALLDAYEVENT:FALSE
SUMMARY:Business Achievement Awards 2026 - Tides of Triumph
DESCRIPTION:Registration Starts at 5:30 PM\n\n \n\nThe Richmond Hill Business Achievement Awards\, hosted annually by the Richmond Hill Board of Trade\, is a premier celebration of local business excellence. This year`s theme\, ?Tides of Triumph\, reflects the brilliance and resilience of the businesses that illuminate Richmond Hill with their achievements.\n\nThe awards honor organizations of all sizes and industries that exemplify leadership\, innovation\, and community impact. From groundbreaking initiatives to transformative growth stories\, these businesses inspire and elevate the vibrant business ecosystem of Richmond Hill.\n\nAs a nominee\, finalist\, or guest\, you will experience a night of celebration\, inspiration\, and recognition. The 2026 Awards Gala\, taking place on Monday\, March 2\, 2026\, at the Sheraton Parkway Toronto North Hotel\, will feature networking opportunities\, uplifting success stories\, and the presentation of awards to Richmond Hill?s brightest businesses.\n\nMore than just a celebration\, the Business Achievement Awards are a testament to the Richmond Hill Board of Trade`s dedication to fostering a thriving and supportive business environment where organizations can grow\, connect\, and shine.\n\nFor more information\, visit RHBOT.ca/BAA. Join us as we celebrate the businesses that light the way in Richmond Hill!\n\n\n\n \nDisclaimer: \n\nBy registering for or attending Richmond Hill Board of Trade events\, you consent to the use of your image and/or video by RHBOT for publications\, advertising\, and other media purposes\, including online platforms. Additionally\, your contact information may be shared with fellow attendees as part of the event experience.
X-ALT-DESC;FMTTYPE=text/html:<p><span style="font-size:26px\;"><strong>Registration Starts at 5:30 PM</strong></span></p>\n\n<p>&nbsp\;</p>\n\n<p>The Richmond Hill Business Achievement Awards\, hosted annually by the Richmond Hill Board of Trade\, is a premier celebration of local business excellence. This year`s theme\, <strong>?</strong>Tides of Triumph\,&nbsp\;reflects the brilliance and resilience of the businesses that illuminate Richmond Hill with their achievements.</p>\n\n<p>The awards honor organizations of all sizes and industries that exemplify leadership\, innovation\, and community impact. From groundbreaking initiatives to transformative growth stories\, these businesses inspire and elevate the vibrant business ecosystem of Richmond Hill.</p>\n\n<p>As a nominee\, finalist\, or guest\, you will experience a night of celebration\, inspiration\, and recognition. The <strong>2026&nbsp\;Awards Gala</strong>\, taking place on Monday\,&nbsp\;<strong>March 2\, 2026</strong>\, at the Sheraton Parkway Toronto North Hotel\, will feature networking opportunities\, uplifting success stories\, and the presentation of awards to Richmond Hill?s brightest businesses.</p>\n\n<p>More than just a celebration\, the Business Achievement Awards are a testament to the Richmond Hill Board of Trade`s dedication to fostering a thriving and supportive business environment where organizations can grow\, connect\, and shine.</p>\n\n<p>For more information\, visit <a href="https://www.rhbot.ca/business-achievement-awards/2025"><strong>RHBOT.ca/BAA</strong></a>. Join us as we celebrate the businesses that light the way in Richmond Hill!<br />\n<br />\n&nbsp\;</p>\n<em style="font-family: tahoma\; font-size: 14px\; letter-spacing: 0.39px\;"><strong><span data-darkreader-inline-color="" style="color: rgb(12\, 12\, 12)\; --darkreader-inline-color: var(--darkreader-text-0c0c0c\, #e0deda)\;">Disclaimer:&nbsp\;</span></strong></em><br />\n<em>By registering for or attending Richmond Hill Board of Trade events\, you consent to the use of your image and/or video by RHBOT for publications\, advertising\, and other media purposes\, including online platforms. Additionally\, your contact information may be shared with fellow attendees as part of the event experience.</em>
LOCATION:Sheraton Parkway Toronto North Hotel & Suites
UID:e.3521.25858
SEQUENCE:3
DTSTAMP:20260419T145808Z
URL:https://business.rhbot.ca/events/details/business-achievement-awards-2026-tides-of-triumph-25858
END:VEVENT

END:VCALENDAR
