BEGIN:VCALENDAR
VERSION:2.0
PRODID:-//ChamberMaster//Event Calendar 2.0//EN
METHOD:PUBLISH
X-PUBLISHED-TTL:P3D
REFRESH-INTERVAL:P3D
CALSCALE:GREGORIAN
BEGIN:VEVENT
DTSTART;VALUE=DATE:20260731
DTEND;VALUE=DATE:20260801
TRANSP:TRANSPARENT
X-MICROSOFT-CDO-ALLDAYEVENT:TRUE
SUMMARY:Explore Richmond Hill - Digital Magazine 2026
DESCRIPTION:Advertising Options & Pricing\n\n  Premium Placements\n\nFull Back Cover\n\n\n	Size: 9" x 10.5"\n	Rate: $750\n	Prime closing page visibility\n\n\nInside Front Cover\n\n\n	Size: 9" x 10.5"\n	Rate: $550\n	High-impact first impression\n\n\nInside Back Cover\n\n\n	Size: 9" x 10.5"\n	Rate: $500\n	Strong end placement visibility\n\n\n\n  Standard Display Ads\n\nFull Page Ad\n\n\n	Size: 9" x 10.5"\n	Rate: $400\n	Ideal for full brand presence\n\n\n1/2 Page Ad (Half Page)\n\n\n	Size: 9" x 5.25"\n	Rate: $350\n	Balanced visibility and value\n\n\n1/4 Page Ad\n\n\n	Size: 4.5" x 5.25"\n	Rate: $250\n	Great for promotions and announcements\n\n\n1/8 Page Ad\n\n\n	Size: 2.25" x 2.625"\n	Rate: $100\n	Affordable option for small placements\n\n\nWhat's Included\n\n\n	Placement in the official Explore Richmond Hill Digital Magazine\n	Promotion through RHBOT channels\n	Long-term online visibility\n	Access to a targeted local business audience\n\n\n\nHow to Book\n\n\n	Select your ad size\n	Complete your booking online\n	Submit your artwork\n	Get featured in the magazine\n\n\n\nArtwork Specifications\n\n\n	Format: PDF\, PNG\, or JPG\n	Resolution: Minimum 300 DPI\n	Must match selected ad size\n	Deadline: 31.07.2026\n\n\nSecure your spot today limited availability.\n\nBook Your Ad Space Now\n\n\nContact\n\nQuestions?\n\n  info@rhbot.ca
X-ALT-DESC;FMTTYPE=text/html:<h2 data-end="575" data-section-id="1cntaeo" data-start="536"><span role="text"><strong data-end="575" data-start="542">Advertising Options &amp\; Pricing</strong></span></h2>\n\n<h3 data-end="606" data-section-id="pos4jn" data-start="577"><span role="text">&#128313\; <strong data-end="606" data-start="584">Premium Placements</strong></span></h3>\n\n<p data-end="629" data-start="608"><strong data-end="627" data-start="608">Full Back Cover</strong></p>\n\n<ul data-end="703" data-start="630">\n	<li data-end="650" data-section-id="1dum2zw" data-start="630">Size: 9&quot\; x 10.5&quot\;</li>\n	<li data-end="669" data-section-id="g50rza" data-start="651"><strong data-end="667" data-start="653">Rate: $750</strong></li>\n	<li data-end="703" data-section-id="1ioi2vh" data-start="670">Prime closing page visibility</li>\n</ul>\n\n<p data-end="729" data-start="705"><strong data-end="727" data-start="705">Inside Front Cover</strong></p>\n\n<ul data-end="802" data-start="730">\n	<li data-end="750" data-section-id="1dum2zw" data-start="730">Size: 9&quot\; x 10.5&quot\;</li>\n	<li data-end="769" data-section-id="18gejdw" data-start="751"><strong data-end="767" data-start="753">Rate: $550</strong></li>\n	<li data-end="802" data-section-id="wk0bo8" data-start="770">High-impact first impression</li>\n</ul>\n\n<p data-end="827" data-start="804"><strong data-end="825" data-start="804">Inside Back Cover</strong></p>\n\n<ul data-end="903" data-start="828">\n	<li data-end="848" data-section-id="1dum2zw" data-start="828">Size: 9&quot\; x 10.5&quot\;</li>\n	<li data-end="867" data-section-id="1599udd" data-start="849"><strong data-end="865" data-start="851">Rate: $500</strong></li>\n	<li data-end="903" data-section-id="7yw5gb" data-start="868">Strong end placement visibility</li>\n</ul>\n\n<hr data-end="908" data-start="905" />\n<h3 data-end="941" data-section-id="qcanqt" data-start="910"><span role="text">&#128313\; <strong data-end="941" data-start="917">Standard Display Ads</strong></span></h3>\n\n<p data-end="961" data-start="943"><strong data-end="959" data-start="943">Full Page Ad</strong></p>\n\n<ul data-end="1035" data-start="962">\n	<li data-end="982" data-section-id="1dum2zw" data-start="962">Size: 9&quot\; x 10.5&quot\;</li>\n	<li data-end="1001" data-section-id="1pcy7ls" data-start="983"><strong data-end="999" data-start="985">Rate: $400</strong></li>\n	<li data-end="1035" data-section-id="qaz7yf" data-start="1002">Ideal for full brand presence</li>\n</ul>\n\n<p data-end="1066" data-start="1037"><strong data-end="1064" data-start="1037">1/2 Page Ad (Half Page)</strong></p>\n\n<ul data-end="1140" data-start="1067">\n	<li data-end="1087" data-section-id="yaz8mi" data-start="1067">Size: 9&quot\; x 5.25&quot\;</li>\n	<li data-end="1106" data-section-id="pd4tr6" data-start="1088"><strong data-end="1104" data-start="1090">Rate: $350</strong></li>\n	<li data-end="1140" data-section-id="npatm4" data-start="1107">Balanced visibility and value</li>\n</ul>\n\n<p data-end="1159" data-start="1142"><strong data-end="1157" data-start="1142">1/4 Page Ad</strong></p>\n\n<ul data-end="1244" data-start="1160">\n	<li data-end="1182" data-section-id="mis6ws" data-start="1160">Size: 4.5&quot\; x 5.25&quot\;</li>\n	<li data-end="1201" data-section-id="1aret43" data-start="1183"><strong data-end="1199" data-start="1185">Rate: $250</strong></li>\n	<li data-end="1244" data-section-id="e06uj3" data-start="1202">Great for promotions and announcements</li>\n</ul>\n\n<p data-end="1263" data-start="1246"><strong data-end="1261" data-start="1246">1/8 Page Ad</strong></p>\n\n<ul data-end="1350" data-start="1264">\n	<li data-end="1288" data-section-id="11k59cp" data-start="1264">Size: 2.25&quot\; x 2.625&quot\;</li>\n	<li data-end="1307" data-section-id="1jnscn9" data-start="1289"><strong data-end="1305" data-start="1291">Rate: $100</strong></li>\n	<li data-end="1350" data-section-id="1ush0nb" data-start="1308">Affordable option for small placements</li>\n</ul>\n\n<h2 data-end="1382" data-section-id="p9ad2k" data-start="1357"><span role="text"><strong data-end="1382" data-start="1363">What&rsquo\;s Included</strong></span></h2>\n\n<ul data-end="1574" data-start="1384">\n	<li data-end="1456" data-section-id="1mtneqe" data-start="1384">Placement in the official <strong data-end="1454" data-start="1412">Explore Richmond Hill Digital Magazine</strong></li>\n	<li data-end="1493" data-section-id="1es0fw3" data-start="1457">Promotion through RHBOT channels</li>\n	<li data-end="1525" data-section-id="9oxmh4" data-start="1494">Long-term online visibility</li>\n	<li data-end="1574" data-section-id="1evh7ix" data-start="1526">Access to a targeted local business audience</li>\n</ul>\n\n<hr data-end="1579" data-start="1576" />\n<h2 data-end="1602" data-section-id="19flfwn" data-start="1581"><span role="text"><strong data-end="1602" data-start="1587">How to Book</strong></span></h2>\n\n<ol data-end="1721" data-start="1604">\n	<li data-end="1628" data-section-id="1k7o00z" data-start="1604">Select your ad size</li>\n	<li data-end="1662" data-section-id="3boh3b" data-start="1629">Complete your booking online</li>\n	<li data-end="1687" data-section-id="1quexh7" data-start="1663">Submit your artwork</li>\n	<li data-end="1721" data-section-id="5s6us5" data-start="1688">Get featured in the magazine</li>\n</ol>\n\n<hr data-end="1726" data-start="1723" />\n<h2 data-end="1760" data-section-id="1ib13jy" data-start="1728"><span role="text"><strong data-end="1760" data-start="1734">Artwork Specifications</strong></span></h2>\n\n<ul data-end="1888" data-start="1762">\n	<li data-end="1790" data-section-id="1i26h16" data-start="1762">Format: PDF\, PNG\, or JPG</li>\n	<li data-end="1822" data-section-id="r8unno" data-start="1791">Resolution: Minimum 300 DPI</li>\n	<li data-end="1854" data-section-id="1bigy5p" data-start="1823">Must match selected ad size</li>\n	<li data-end="1888" data-section-id="1mujiyr" data-start="1855">Deadline: <i>31.07.2026</i></li>\n</ul>\n\n<p data-end="1969" data-start="1921"><strong data-end="1969" data-start="1921">Secure your spot today&mdash\;limited availability.</strong></p>\n\n<p data-end="2000" data-start="1971"><em data-end="1998" data-start="1974">Book Your Ad Space Now</em></p>\n\n<hr data-end="2005" data-start="2002" />\n<h2 data-end="2024" data-section-id="tqaruu" data-start="2007"><span role="text"><strong data-end="2024" data-start="2013">Contact</strong></span></h2>\n\n<p data-end="2083" data-start="2026">Questions?<br data-end="2039" data-start="2036" />\n&#128231\; <a class="decorated-link cursor-pointer" data-end="2055" data-start="2042" rel="noopener">info@rhbot.ca</a></p>\n
LOCATION:DIGITAL
UID:e.3521.25947
SEQUENCE:3
DTSTAMP:20260421T222552Z
URL:https://business.rhbot.ca/events/details/explore-richmond-hill-digital-magazine-2026-25947
END:VEVENT

END:VCALENDAR
