BEGIN:VCALENDAR
VERSION:2.0
PRODID:-//ChamberMaster//Event Calendar 2.0//EN
METHOD:PUBLISH
X-PUBLISHED-TTL:P3D
REFRESH-INTERVAL:P3D
CALSCALE:GREGORIAN
BEGIN:VEVENT
DTSTART:20241205T220000Z
DTEND:20241206T003000Z
X-MICROSOFT-CDO-ALLDAYEVENT:FALSE
SUMMARY:Holiday Celebration 2024
DESCRIPTION:Celebrate the holiday season with the Richmond Hill Board of Trade! This year's Holiday Celebration at the Richmond Hill Centre for the Performing Arts promises an engaging evening of festive fun\, community connections\, and valuable networking. Explore a variety of vendor booths\, sample delightful refreshments\, and enter our raffles for a chance to win special prizes. Whether you're a member or a guest\, come enjoy an evening designed to connect\, inspire\, and celebrate. Don't miss out on this fantastic opportunity to mingle and make meaningful connections to close out the year on a high note!\n\n\n\nEvent Photo Disclaimer: By registering for or attending Richmond Hill Board of Trade Events\, you give consent to the RHBOT to use your image and/or video for its publications\, advertising or other media activities (including the Internet).\n\nBy registering for a Richmond Hill Board of Trade networking event\, we reserve the right to share your contact information with other attendees.
X-ALT-DESC;FMTTYPE=text/html:<p>Celebrate the holiday season with the Richmond Hill Board of Trade! This year&#39\;s Holiday Celebration at the Richmond Hill Centre for the Performing Arts promises an engaging evening of festive fun\, community connections\, and valuable networking. Explore a variety of vendor booths\, sample delightful refreshments\, and enter our raffles for a chance to win special prizes. Whether you&#39\;re a member or a guest\, come enjoy an evening designed to connect\, inspire\, and celebrate. Don&#39\;t miss out on this fantastic opportunity to mingle and make meaningful connections to close out the year on a high note!<br style="font-size: 13px\;" />\n<br style="font-family: tahoma\; font-size: 14px\;" />\n<span style="font-size: 16px\;"><em style="font-family: tahoma\; font-size: 14px\; letter-spacing: 0.39px\;"><strong><span style="color: rgb(12\, 12\, 12)\;">Event Photo Disclaimer:&nbsp\;By registering for or attending Richmond Hill Board of Trade Events\, you give consent to the RHBOT to use your image and/or video for its publications\, advertising or other media activities (including the Internet).</span><br />\n<span style="color: rgb(12\, 12\, 12)\;">By registering for a Richmond Hill Board of Trade networking event\, we reserve the right to share your contact information with other attendees.</span></strong></em></span></p>\n
LOCATION:Richmond Hill Centre for the Performing Arts If needed\, alternate parking (see map) is available at Elgin Barrow Arena (43 Church St.)\, and McConaghy Centre (10100 Yonge St.).
UID:e.3521.25779
SEQUENCE:3
DTSTAMP:20260425T212658Z
URL:https://business.rhbot.ca/events/details/holiday-celebration-2024-25779
END:VEVENT

END:VCALENDAR
