BEGIN:VCALENDAR
VERSION:2.0
PRODID:-//ChamberMaster//Event Calendar 2.0//EN
METHOD:PUBLISH
X-PUBLISHED-TTL:P3D
REFRESH-INTERVAL:P3D
CALSCALE:GREGORIAN
BEGIN:VEVENT
DTSTART:20260521T210000Z
DTEND:20260521T230000Z
X-MICROSOFT-CDO-ALLDAYEVENT:FALSE
SUMMARY:Richmond Hill Young Professionals - Game Night Social [CLUE CAFE]
DESCRIPTION:Game Night Social\n\nConnect. Play. Unwind.\n\nJoin us for a relaxed and engaging evening of networking and fun at our Game Night Social. This unique event brings together business professionals\, entrepreneurs\, and community members for an interactive experience featuring board games\, light refreshments\, and meaningful conversations.\n\nWhether you're looking to expand your network\, strengthen relationships\, or simply enjoy a casual evening out\, this event offers the perfect setting to connect in a fun and welcoming atmosphere.\n\n\n\n \nWhat to Expect\n\n\n	A variety of board games for all to enjoy\n	Buffet-style light refreshments\, including:\n	\n		Fresh salads\n		Savoury bites\n		Sweet treats\n	\n	\n	Hot & cold non-alcoholic beverages\n	A relaxed\, social environment designed for networking and collaboration\n\n\n\nTickets\n\n\n	Members: $25\n	Non-Members: $35\n\n\nLimited spots available. Advance registration is required.\n\n\nWhy Attend?\n\n\n	Build meaningful connections in a fun\, low-pressure setting\n	Meet fellow professionals and local business leaders\n	Experience networking in a fresh and interactive format
X-ALT-DESC;FMTTYPE=text/html:<div data-ogsc="black" style="border: 0px\; font-variant-numeric: inherit\; font-variant-east-asian: inherit\; font-variant-alternates: inherit\; font-variant-position: inherit\; font-variant-emoji: inherit\; font-stretch: inherit\; font-size: 12pt\; line-height: inherit\; font-family: Aptos\, Aptos_EmbeddedFont\, Aptos_MSFontService\, Calibri\, Helvetica\, sans-serif\, serif\, EmojiFont\; font-optical-sizing: inherit\; font-size-adjust: inherit\; font-kerning: inherit\; font-feature-settings: inherit\; font-variation-settings: inherit\; font-language-override: inherit\; margin: 0px\; padding: 0px\; vertical-align: baseline\; color: black !important\;"><b data-ogsc="" data-olk-copy-source="MessageBody">Game Night Social</b></div>\n\n<div data-ogsc="black" style="border: 0px\; font-variant-numeric: inherit\; font-variant-east-asian: inherit\; font-variant-alternates: inherit\; font-variant-position: inherit\; font-variant-emoji: inherit\; font-stretch: inherit\; font-size: 12pt\; line-height: inherit\; font-family: Aptos\, Aptos_EmbeddedFont\, Aptos_MSFontService\, Calibri\, Helvetica\, sans-serif\, serif\, EmojiFont\; font-optical-sizing: inherit\; font-size-adjust: inherit\; font-kerning: inherit\; font-feature-settings: inherit\; font-variation-settings: inherit\; font-language-override: inherit\; margin: 0px\; padding: 0px\; vertical-align: baseline\; color: black !important\;"><b data-ogsc=""><i data-ogsc="">Connect. Play. Unwind.</i></b></div>\n\n<div data-ogsc="black" style="border: 0px\; font-variant-numeric: inherit\; font-variant-east-asian: inherit\; font-variant-alternates: inherit\; font-variant-position: inherit\; font-variant-emoji: inherit\; font-stretch: inherit\; font-size: 12pt\; line-height: inherit\; font-family: Aptos\, Aptos_EmbeddedFont\, Aptos_MSFontService\, Calibri\, Helvetica\, sans-serif\, serif\, EmojiFont\; font-optical-sizing: inherit\; font-size-adjust: inherit\; font-kerning: inherit\; font-feature-settings: inherit\; font-variation-settings: inherit\; font-language-override: inherit\; margin: 1em 0px\; padding: 0px\; vertical-align: baseline\; color: black !important\;">Join us for a relaxed and engaging evening of networking and fun at our&nbsp\;<b data-ogsc="">Game Night Social</b>. This unique event brings together business professionals\, entrepreneurs\, and community members for an interactive experience featuring board games\, light refreshments\, and meaningful conversations.</div>\n\n<div data-ogsc="black" style="border: 0px\; font-variant-numeric: inherit\; font-variant-east-asian: inherit\; font-variant-alternates: inherit\; font-variant-position: inherit\; font-variant-emoji: inherit\; font-stretch: inherit\; font-size: 12pt\; line-height: inherit\; font-family: Aptos\, Aptos_EmbeddedFont\, Aptos_MSFontService\, Calibri\, Helvetica\, sans-serif\, serif\, EmojiFont\; font-optical-sizing: inherit\; font-size-adjust: inherit\; font-kerning: inherit\; font-feature-settings: inherit\; font-variation-settings: inherit\; font-language-override: inherit\; margin: 1em 0px\; padding: 0px\; vertical-align: baseline\; color: black !important\;">Whether you&#39\;re looking to expand your network\, strengthen relationships\, or simply enjoy a casual evening out\, this event offers the perfect setting to connect in a fun and welcoming atmosphere.<br />\n<br />\n&nbsp\;\n<div data-ogsc="black" style="border: 0px\; font-variant-numeric: inherit\; font-variant-east-asian: inherit\; font-variant-alternates: inherit\; font-variant-position: inherit\; font-variant-emoji: inherit\; font-stretch: inherit\; font-size: 12pt\; line-height: inherit\; font-family: Aptos\, Aptos_EmbeddedFont\, Aptos_MSFontService\, Calibri\, Helvetica\, sans-serif\, serif\, EmojiFont\; font-optical-sizing: inherit\; font-size-adjust: inherit\; font-kerning: inherit\; font-feature-settings: inherit\; font-variation-settings: inherit\; font-language-override: inherit\; margin: 0px\; padding: 0px\; vertical-align: baseline\; color: black !important\;"><b data-ogsc="" data-olk-copy-source="MessageBody">What to Expect</b></div>\n\n<ul data-end="1116" data-start="836" style="color: rgb(0\, 0\, 0)\; font-family: &quot\;Segoe UI&quot\;\, &quot\;Segoe UI Web (West European)&quot\;\, -apple-system\, BlinkMacSystemFont\, Roboto\, &quot\;Helvetica Neue&quot\;\, sans-serif\; font-size: 15px\;">\n	<li data-ogsc="black" style="font-size: 12pt\; font-family: Aptos\, Aptos_EmbeddedFont\, Aptos_MSFontService\, Calibri\, Helvetica\, sans-serif\;">A variety of&nbsp\;<b data-ogsc="">board games</b>&nbsp\;for all to enjoy</li>\n	<li data-ogsc="black" style="font-size: 12pt\; font-family: Aptos\, Aptos_EmbeddedFont\, Aptos_MSFontService\, Calibri\, Helvetica\, sans-serif\;"><b data-ogsc="">Buffet-style light refreshments</b>\, including:\n	<ul data-end="995" data-start="940">\n		<li data-ogsc="black" style="font-size: 12pt\; font-family: Aptos\, Aptos_EmbeddedFont\, Aptos_MSFontService\, Calibri\, Helvetica\, sans-serif\;">Fresh salads</li>\n		<li data-ogsc="black" style="font-size: 12pt\; font-family: Aptos\, Aptos_EmbeddedFont\, Aptos_MSFontService\, Calibri\, Helvetica\, sans-serif\;">Savoury bites</li>\n		<li data-ogsc="black" style="font-size: 12pt\; font-family: Aptos\, Aptos_EmbeddedFont\, Aptos_MSFontService\, Calibri\, Helvetica\, sans-serif\;">Sweet treats</li>\n	</ul>\n	</li>\n	<li data-ogsc="black" style="font-size: 12pt\; font-family: Aptos\, Aptos_EmbeddedFont\, Aptos_MSFontService\, Calibri\, Helvetica\, sans-serif\;"><b data-ogsc="">Hot &amp\; cold non-alcoholic beverages</b></li>\n	<li data-ogsc="black" style="font-size: 12pt\; font-family: Aptos\, Aptos_EmbeddedFont\, Aptos_MSFontService\, Calibri\, Helvetica\, sans-serif\;">A relaxed\, social environment designed for&nbsp\;<b data-ogsc="">networking and collaboration</b></li>\n</ul>\n\n<hr data-ogsc="" style="font-family: &quot\;Segoe UI&quot\;\, &quot\;Segoe UI Web (West European)&quot\;\, -apple-system\, BlinkMacSystemFont\, Roboto\, &quot\;Helvetica Neue&quot\;\, sans-serif\; font-size: 15px\;" />\n<div data-ogsc="black" style="border: 0px\; font-variant-numeric: inherit\; font-variant-east-asian: inherit\; font-variant-alternates: inherit\; font-variant-position: inherit\; font-variant-emoji: inherit\; font-stretch: inherit\; font-size: 12pt\; line-height: inherit\; font-family: Aptos\, Aptos_EmbeddedFont\, Aptos_MSFontService\, Calibri\, Helvetica\, sans-serif\, serif\, EmojiFont\; font-optical-sizing: inherit\; font-size-adjust: inherit\; font-kerning: inherit\; font-feature-settings: inherit\; font-variation-settings: inherit\; font-language-override: inherit\; margin: 0px\; padding: 0px\; vertical-align: baseline\; color: black !important\;"><b data-ogsc="">Tickets</b></div>\n\n<ul data-end="1185" data-start="1140" style="color: rgb(0\, 0\, 0)\; font-family: &quot\;Segoe UI&quot\;\, &quot\;Segoe UI Web (West European)&quot\;\, -apple-system\, BlinkMacSystemFont\, Roboto\, &quot\;Helvetica Neue&quot\;\, sans-serif\; font-size: 15px\;">\n	<li data-ogsc="black" style="font-size: 12pt\; font-family: Aptos\, Aptos_EmbeddedFont\, Aptos_MSFontService\, Calibri\, Helvetica\, sans-serif\;"><b data-ogsc="">Members:</b>&nbsp\;$25</li>\n	<li data-ogsc="black" style="font-size: 12pt\; font-family: Aptos\, Aptos_EmbeddedFont\, Aptos_MSFontService\, Calibri\, Helvetica\, sans-serif\;"><b data-ogsc="">Non-Members:</b>&nbsp\;$35</li>\n</ul>\n\n<div data-ogsc="black" style="border: 0px\; font-variant-numeric: inherit\; font-variant-east-asian: inherit\; font-variant-alternates: inherit\; font-variant-position: inherit\; font-variant-emoji: inherit\; font-stretch: inherit\; font-size: 12pt\; line-height: inherit\; font-family: Aptos\, Aptos_EmbeddedFont\, Aptos_MSFontService\, Calibri\, Helvetica\, sans-serif\, serif\, EmojiFont\; font-optical-sizing: inherit\; font-size-adjust: inherit\; font-kerning: inherit\; font-feature-settings: inherit\; font-variation-settings: inherit\; font-language-override: inherit\; margin: 1em 0px\; padding: 0px\; vertical-align: baseline\; color: black !important\;"><i data-ogsc="">Limited spots available. Advance registration is required.</i></div>\n\n<hr data-ogsc="" style="font-family: &quot\;Segoe UI&quot\;\, &quot\;Segoe UI Web (West European)&quot\;\, -apple-system\, BlinkMacSystemFont\, Roboto\, &quot\;Helvetica Neue&quot\;\, sans-serif\; font-size: 15px\;" />\n<div data-ogsc="black" style="border: 0px\; font-variant-numeric: inherit\; font-variant-east-asian: inherit\; font-variant-alternates: inherit\; font-variant-position: inherit\; font-variant-emoji: inherit\; font-stretch: inherit\; font-size: 12pt\; line-height: inherit\; font-family: Aptos\, Aptos_EmbeddedFont\, Aptos_MSFontService\, Calibri\, Helvetica\, sans-serif\, serif\, EmojiFont\; font-optical-sizing: inherit\; font-size-adjust: inherit\; font-kerning: inherit\; font-feature-settings: inherit\; font-variation-settings: inherit\; font-language-override: inherit\; margin: 0px\; padding: 0px\; vertical-align: baseline\; color: black !important\;"><b data-ogsc="">Why Attend?</b></div>\n\n<ul data-end="1461" data-start="1275" style="color: rgb(0\, 0\, 0)\; font-family: &quot\;Segoe UI&quot\;\, &quot\;Segoe UI Web (West European)&quot\;\, -apple-system\, BlinkMacSystemFont\, Roboto\, &quot\;Helvetica Neue&quot\;\, sans-serif\; font-size: 15px\;">\n	<li data-ogsc="black" style="font-size: 12pt\; font-family: Aptos\, Aptos_EmbeddedFont\, Aptos_MSFontService\, Calibri\, Helvetica\, sans-serif\;">Build meaningful connections in a&nbsp\;<b data-ogsc="">fun\, low-pressure setting</b></li>\n	<li data-ogsc="black" style="font-size: 12pt\; font-family: Aptos\, Aptos_EmbeddedFont\, Aptos_MSFontService\, Calibri\, Helvetica\, sans-serif\;">Meet fellow professionals and local business leaders</li>\n	<li data-ogsc="black" style="font-size: 12pt\; font-family: Aptos\, Aptos_EmbeddedFont\, Aptos_MSFontService\, Calibri\, Helvetica\, sans-serif\;">Experience networking in a&nbsp\;<b data-ogsc="">fresh and interactive format</b></li>\n</ul>\n</div>\n
LOCATION:Location: 4 Church Street\, South\, Richmond Hill
UID:e.3521.25946
SEQUENCE:3
DTSTAMP:20260421T192247Z
URL:https://business.rhbot.ca/events/details/richmond-hill-young-professionals-game-night-social-clue-cafe-25946
END:VEVENT

END:VCALENDAR
